BEGIN:VCALENDAR
VERSION:2.0
PRODID:-//Samy&#039;s Photo School - ECPv6.15.16//NONSGML v1.0//EN
CALSCALE:GREGORIAN
METHOD:PUBLISH
X-WR-CALNAME:Samy&#039;s Photo School
X-ORIGINAL-URL:https://samysphotoschool.com
X-WR-CALDESC:Events for Samy&#039;s Photo School
REFRESH-INTERVAL;VALUE=DURATION:PT1H
X-Robots-Tag:noindex
X-PUBLISHED-TTL:PT1H
BEGIN:VTIMEZONE
TZID:America/Los_Angeles
BEGIN:DAYLIGHT
TZOFFSETFROM:-0800
TZOFFSETTO:-0700
TZNAME:PDT
DTSTART:20250309T100000
END:DAYLIGHT
BEGIN:STANDARD
TZOFFSETFROM:-0700
TZOFFSETTO:-0800
TZNAME:PST
DTSTART:20251102T090000
END:STANDARD
BEGIN:DAYLIGHT
TZOFFSETFROM:-0800
TZOFFSETTO:-0700
TZNAME:PDT
DTSTART:20260308T100000
END:DAYLIGHT
BEGIN:STANDARD
TZOFFSETFROM:-0700
TZOFFSETTO:-0800
TZNAME:PST
DTSTART:20261101T090000
END:STANDARD
BEGIN:DAYLIGHT
TZOFFSETFROM:-0800
TZOFFSETTO:-0700
TZNAME:PDT
DTSTART:20270314T100000
END:DAYLIGHT
BEGIN:STANDARD
TZOFFSETFROM:-0700
TZOFFSETTO:-0800
TZNAME:PST
DTSTART:20271107T090000
END:STANDARD
END:VTIMEZONE
BEGIN:VEVENT
DTSTART;TZID=America/Los_Angeles:20260414T100000
DTEND;TZID=America/Los_Angeles:20260414T160000
DTSTAMP:20260420T022209
CREATED:20260403T002449Z
LAST-MODIFIED:20260403T212516Z
UID:10004061-1776160800-1776182400@samysphotoschool.com
SUMMARY:Sigma Demo + Narrative\, VSCO & Pexels Photo Walk & Meet Up- Los Angeles
DESCRIPTION:Photowalk\, gear demos\, shooting\, and community time. Expect a mix of movement and hands-on learning.\n\n\n\nJoin us in store as our Sigma representative will be on hand with a selection of Sigma lenses for customers to see\, handle\, and try out. \nFrom 10AM–4PM\, we’re kicking things off with a 30–60 min photowalk at 12pm\, then settling in for demos\, shooting\, and community time. Expect a mix of movement and hands-on learning\, all centered around pastel styling and strong visuals. \nWe’ll have demos from SIGMA\, plus time to connect with the VSCO and Narrative teams. \nRegister now for this great opportunity to ask questions\, get expert insights\, and experience the lenses firsthand before making a decision. \nPhoto Walk & Meet Up Event Details \n📍 Location: Samy’s Camera Los Angeles\n🗓 Date: April 14th\n⏰ Time: 10AM–4PM\n🎯 Theme: People in Pastel\n👋 Who’s it for: All levels welcome. Photo + video.\n🫂 Free to join. \nWhat is Pexels? \nA global community of 600K+ creators making visuals that move. You create. We help it travel. \nWhat is Narrative? \nA culling and editing app built by photographers\, for photographers. It helps you find your best photos fast and cut your workflow time in half without sacrificing creative control.\nnarrative.so/ \nWhat is VSCO? \nVSCO is a complete photography platform—editing tools\, portfolio sites\, client workflows\, and community—that helps photographers hone their craft\, grow their network\, and build a photography business on their terms. \n\n\nBy registering\, you agree to our Terms and Conditions. Click here to view our Terms and Conditions.
URL:https://samysphotoschool.com/event/sigma-demo-narrative-vsco-pexel-photo-walk-meet-up-los-angeles/
LOCATION:Samy’s Camera Los Angeles\, 431 South Fairfax Avenue\, Classroom on Third Floor\, Los Angeles\, CA\, 90036\, United States
CATEGORIES:Photography,Special Events,Travel, Nature, Adventure & Photo Walks
ATTACH;FMTTYPE=image/jpeg:https://samysphotoschool.com/wp-content/uploads/2026/04/samys-sigma-rep-day-v2-1080x500-20260311.jpg
END:VEVENT
END:VCALENDAR